BEGIN:VCALENDAR
VERSION:2.0
CALSCALE:GREGORIAN
PRODID:adamgibbons/ics
METHOD:PUBLISH
X-PUBLISHED-TTL:PT1H
BEGIN:VEVENT
UID:199@tucsontimeline.info
SUMMARY:Barefoot On Bumblebees\, The Benson Highway Band\, Priscilla Priddy
	 at St. Charles Tavern
DTSTAMP:20260423T063534Z
DTSTART:20250301T030000Z
DTEND:20250301T070000Z
DESCRIPTION:Three bands for free!
URL:https://tucsontimeline.info/event/barefoot-on-bumblebees-the-benson-hig
	hway-band-priscilla-priddy-at-st-charles-tavern
LOCATION:St. Charles Tavern - 1632 S 4th Ave 85713
STATUS:CONFIRMED
CATEGORIES:
X-ALT-DESC;FMTTYPE=text/html:<p>Three bands for free! </p>
END:VEVENT
END:VCALENDAR
